BEGIN:VCALENDAR
VERSION:2.0
PRODID:-//Christ Church Deer Park - ECPv6.15.17.1//NONSGML v1.0//EN
CALSCALE:GREGORIAN
METHOD:PUBLISH
X-WR-CALNAME:Christ Church Deer Park
X-ORIGINAL-URL:https://christchurchdeerpark.org
X-WR-CALDESC:Events for Christ Church Deer Park
REFRESH-INTERVAL;VALUE=DURATION:PT1H
X-Robots-Tag:noindex
X-PUBLISHED-TTL:PT1H
BEGIN:VTIMEZONE
TZID:America/Toronto
BEGIN:DAYLIGHT
TZOFFSETFROM:-0500
TZOFFSETTO:-0400
TZNAME:EDT
DTSTART:20230312T070000
END:DAYLIGHT
BEGIN:STANDARD
TZOFFSETFROM:-0400
TZOFFSETTO:-0500
TZNAME:EST
DTSTART:20231105T060000
END:STANDARD
BEGIN:DAYLIGHT
TZOFFSETFROM:-0500
TZOFFSETTO:-0400
TZNAME:EDT
DTSTART:20240310T070000
END:DAYLIGHT
BEGIN:STANDARD
TZOFFSETFROM:-0400
TZOFFSETTO:-0500
TZNAME:EST
DTSTART:20241103T060000
END:STANDARD
BEGIN:DAYLIGHT
TZOFFSETFROM:-0500
TZOFFSETTO:-0400
TZNAME:EDT
DTSTART:20250309T070000
END:DAYLIGHT
BEGIN:STANDARD
TZOFFSETFROM:-0400
TZOFFSETTO:-0500
TZNAME:EST
DTSTART:20251102T060000
END:STANDARD
END:VTIMEZONE
BEGIN:VEVENT
DTSTART;TZID=America/Toronto:20240216T143000
DTEND;TZID=America/Toronto:20240216T160000
DTSTAMP:20260425T095332
CREATED:20240131T174722Z
LAST-MODIFIED:20240215T164812Z
UID:7257-1708093800-1708099200@christchurchdeerpark.org
SUMMARY:Funeral for Anne Larkin
DESCRIPTION:We are very sad to share the news of Anne’s passing. Anne was a dedicated member of our congregation\, a person who truly embodied the servant-leadership of Christ. Her funeral will be at Christ Church Deer Park on Friday\, February 16th at 2:30pm\, and it will also be livestreamed (please click here to watch the livestream). The order of service can be viewed here. \nAnne’s obituary can be found online here. 
URL:https://christchurchdeerpark.org/event/funeral-for-anne-larkin/
LOCATION:Christ Church Deer Park\, 1570 Yonge Street\, Toronto\, ON\, M4T 1Z8\, Canada
CATEGORIES:Recommended,Worship Service
ATTACH;FMTTYPE=image/jpeg:https://christchurchdeerpark.org/wp-content/uploads/2024/01/IMG_8680-2.jpg
END:VEVENT
END:VCALENDAR