BEGIN:VCALENDAR
VERSION:2.0
PRODID:-//Christ Church Deer Park - ECPv6.15.17.1//NONSGML v1.0//EN
CALSCALE:GREGORIAN
METHOD:PUBLISH
X-WR-CALNAME:Christ Church Deer Park
X-ORIGINAL-URL:https://christchurchdeerpark.org
X-WR-CALDESC:Events for Christ Church Deer Park
REFRESH-INTERVAL;VALUE=DURATION:PT1H
X-Robots-Tag:noindex
X-PUBLISHED-TTL:PT1H
BEGIN:VTIMEZONE
TZID:America/Toronto
BEGIN:DAYLIGHT
TZOFFSETFROM:-0500
TZOFFSETTO:-0400
TZNAME:EDT
DTSTART:20250309T070000
END:DAYLIGHT
BEGIN:STANDARD
TZOFFSETFROM:-0400
TZOFFSETTO:-0500
TZNAME:EST
DTSTART:20251102T060000
END:STANDARD
BEGIN:DAYLIGHT
TZOFFSETFROM:-0500
TZOFFSETTO:-0400
TZNAME:EDT
DTSTART:20260308T070000
END:DAYLIGHT
BEGIN:STANDARD
TZOFFSETFROM:-0400
TZOFFSETTO:-0500
TZNAME:EST
DTSTART:20261101T060000
END:STANDARD
BEGIN:DAYLIGHT
TZOFFSETFROM:-0500
TZOFFSETTO:-0400
TZNAME:EDT
DTSTART:20270314T070000
END:DAYLIGHT
BEGIN:STANDARD
TZOFFSETFROM:-0400
TZOFFSETTO:-0500
TZNAME:EST
DTSTART:20271107T060000
END:STANDARD
END:VTIMEZONE
BEGIN:VEVENT
DTSTART;TZID=America/Toronto:20260402T180000
DTEND;TZID=America/Toronto:20260402T203000
DTSTAMP:20260421T025907
CREATED:20260211T201004Z
LAST-MODIFIED:20260319T134151Z
UID:8996-1775152800-1775161800@christchurchdeerpark.org
SUMMARY:Maundy Thursday - Simple Supper & Service
DESCRIPTION:Holy Communion and Foot Washing:  This intimate service commemorates the Last Supper where Jesus ate bread and drank wine with his disciples and\, as a sign of his self-giving love for them\, washed their feet. The service is preceded by a simple supper in Elliott Hall. \nSimple Supper 6:00 pm \nService 7:30 pm
URL:https://christchurchdeerpark.org/event/maundy-thursday-simple-supper-service/
LOCATION:Christ Church Deer Park\, 1570 Yonge Street\, Toronto\, ON\, M4T 1Z8\, Canada
CATEGORIES:Easter Holy Week,Recommended
END:VEVENT
END:VCALENDAR